BEGIN:VCALENDAR
VERSION:2.0
PRODID:-//École bilingue Notre-Dame de Sion - ECPv6.15.20//NONSGML v1.0//EN
CALSCALE:GREGORIAN
METHOD:PUBLISH
X-WR-CALNAME:École bilingue Notre-Dame de Sion
X-ORIGINAL-URL:https://ebnds.com/en/
X-WR-CALDESC:Events for École bilingue Notre-Dame de Sion
REFRESH-INTERVAL;VALUE=DURATION:PT1H
X-Robots-Tag:noindex
X-PUBLISHED-TTL:PT1H
BEGIN:VTIMEZONE
TZID:America/Toronto
BEGIN:DAYLIGHT
TZOFFSETFROM:-0500
TZOFFSETTO:-0400
TZNAME:EDT
DTSTART:20190310T070000
END:DAYLIGHT
BEGIN:STANDARD
TZOFFSETFROM:-0400
TZOFFSETTO:-0500
TZNAME:EST
DTSTART:20191103T060000
END:STANDARD
BEGIN:DAYLIGHT
TZOFFSETFROM:-0500
TZOFFSETTO:-0400
TZNAME:EDT
DTSTART:20200308T070000
END:DAYLIGHT
BEGIN:STANDARD
TZOFFSETFROM:-0400
TZOFFSETTO:-0500
TZNAME:EST
DTSTART:20201101T060000
END:STANDARD
BEGIN:DAYLIGHT
TZOFFSETFROM:-0500
TZOFFSETTO:-0400
TZNAME:EDT
DTSTART:20210314T070000
END:DAYLIGHT
BEGIN:STANDARD
TZOFFSETFROM:-0400
TZOFFSETTO:-0500
TZNAME:EST
DTSTART:20211107T060000
END:STANDARD
BEGIN:DAYLIGHT
TZOFFSETFROM:-0500
TZOFFSETTO:-0400
TZNAME:EDT
DTSTART:20220313T070000
END:DAYLIGHT
BEGIN:STANDARD
TZOFFSETFROM:-0400
TZOFFSETTO:-0500
TZNAME:EST
DTSTART:20221106T060000
END:STANDARD
END:VTIMEZONE
BEGIN:VEVENT
DTSTART;VALUE=DATE:20200626
DTEND;VALUE=DATE:20200627
DTSTAMP:20260426T002039
CREATED:20200121T204243Z
LAST-MODIFIED:20200511T184407Z
UID:2358-1593129600-1593215999@ebnds.com
SUMMARY:END OF TERM / LAST DAY OF SCHOOL
DESCRIPTION:ENJOY YOUR SUMMER VACATION!!
URL:https://ebnds.com/en/event/end-of-term-last-day-of-school/
END:VEVENT
BEGIN:VEVENT
DTSTART;VALUE=DATE:20200825
DTEND;VALUE=DATE:20200829
DTSTAMP:20260426T002039
CREATED:20200921T151935Z
LAST-MODIFIED:20200921T151935Z
UID:2411-1598313600-1598659199@ebnds.com
SUMMARY:PEDAGOGICAL DAY
DESCRIPTION:NO CLASS
URL:https://ebnds.com/en/event/pedagogical-day-5/
END:VEVENT
BEGIN:VEVENT
DTSTART;VALUE=DATE:20200831
DTEND;VALUE=DATE:20200901
DTSTAMP:20260426T002039
CREATED:20200921T152329Z
LAST-MODIFIED:20200921T152329Z
UID:2417-1598832000-1598918399@ebnds.com
SUMMARY:BACK TO SCHOOL
DESCRIPTION:
URL:https://ebnds.com/en/event/back-to-school-2/
END:VEVENT
BEGIN:VEVENT
DTSTART;VALUE=DATE:20200904
DTEND;VALUE=DATE:20200905
DTSTAMP:20260426T002039
CREATED:20200921T152406Z
LAST-MODIFIED:20200921T152406Z
UID:2419-1599177600-1599263999@ebnds.com
SUMMARY:FUN DAY
DESCRIPTION:
URL:https://ebnds.com/en/event/fun-day-2/
END:VEVENT
BEGIN:VEVENT
DTSTART;VALUE=DATE:20200907
DTEND;VALUE=DATE:20200908
DTSTAMP:20260426T002039
CREATED:20200921T153856Z
LAST-MODIFIED:20200921T153856Z
UID:2423-1599436800-1599523199@ebnds.com
SUMMARY:PUBLIC HOLIDAY
DESCRIPTION:The school is closed
URL:https://ebnds.com/en/event/public-holiday/
END:VEVENT
BEGIN:VEVENT
DTSTART;VALUE=DATE:20200923
DTEND;VALUE=DATE:20200924
DTSTAMP:20260426T002039
CREATED:20200921T155715Z
LAST-MODIFIED:20200921T155715Z
UID:2433-1600819200-1600905599@ebnds.com
SUMMARY:PEDAGOGICAL DAY
DESCRIPTION:No class
URL:https://ebnds.com/en/event/pedagogical-day-8/
END:VEVENT
BEGIN:VEVENT
DTSTART;VALUE=DATE:20201008
DTEND;VALUE=DATE:20201009
DTSTAMP:20260426T002039
CREATED:20200921T162109Z
LAST-MODIFIED:20200921T162109Z
UID:2437-1602115200-1602201599@ebnds.com
SUMMARY:VIRTUAL OPEN HOUSE
DESCRIPTION:To register for the virtual tour\, contact Ms. Nicolet\, Director of Admissions at cnicolet@ebnds.com
URL:https://ebnds.com/en/event/virtual-open-house/
END:VEVENT
BEGIN:VEVENT
DTSTART;VALUE=DATE:20201009
DTEND;VALUE=DATE:20201010
DTSTAMP:20260426T002039
CREATED:20200921T162553Z
LAST-MODIFIED:20200921T162553Z
UID:2439-1602201600-1602287999@ebnds.com
SUMMARY:PEDAGOGICAL DAY
DESCRIPTION:No class
URL:https://ebnds.com/en/event/pedagogical-day-9/
END:VEVENT
BEGIN:VEVENT
DTSTART;VALUE=DATE:20201012
DTEND;VALUE=DATE:20201013
DTSTAMP:20260426T002039
CREATED:20200921T163211Z
LAST-MODIFIED:20200921T163331Z
UID:2443-1602460800-1602547199@ebnds.com
SUMMARY:PUBLIC HOLIDAY
DESCRIPTION:The school is closed
URL:https://ebnds.com/en/event/pulblic-holiday/
END:VEVENT
BEGIN:VEVENT
DTSTART;VALUE=DATE:20201030
DTEND;VALUE=DATE:20201031
DTSTAMP:20260426T002039
CREATED:20200925T182805Z
LAST-MODIFIED:20200925T182819Z
UID:2552-1604016000-1604102399@ebnds.com
SUMMARY:HALLOWEEN: Your child can come disguised!
DESCRIPTION:HALLOWEEN: OUR LITTLE DISGUISED MONSTERS! On Halloween\, let’s combine the useful with the pleasant! On Friday\, October 30\, your child can spend the day at school dressed as a cat\, witch\, or another character! Note that masks and objects representing violence are prohibited. Also\, in order to prevent any unfortunate situation in the context of COVID\, we ask that you keep sweets and chocolates at home. A gesture of goodwill can also prove fatal for a child with allergies! The school team will take care of spoiling your children\, taking this context into account.
URL:https://ebnds.com/en/event/halloween-your-child-can-come-disguised/
END:VEVENT
BEGIN:VEVENT
DTSTART;VALUE=DATE:20201109
DTEND;VALUE=DATE:20201110
DTSTAMP:20260426T002039
CREATED:20200921T175432Z
LAST-MODIFIED:20200921T175459Z
UID:2451-1604880000-1604966399@ebnds.com
SUMMARY:PEDAGOGICAL DAY
DESCRIPTION:No class
URL:https://ebnds.com/en/event/public-holiday-2/
END:VEVENT
BEGIN:VEVENT
DTSTART;VALUE=DATE:20201118
DTEND;VALUE=DATE:20201119
DTSTAMP:20260426T002039
CREATED:20200921T180426Z
LAST-MODIFIED:20200921T195241Z
UID:2460-1605657600-1605743999@ebnds.com
SUMMARY:EVENING PARENTS-TEACHERS ZOOM MEETING
DESCRIPTION:Time to be determined
URL:https://ebnds.com/en/event/evening-parents-teachers-meeting/
END:VEVENT
BEGIN:VEVENT
DTSTART;VALUE=DATE:20201119
DTEND;VALUE=DATE:20201120
DTSTAMP:20260426T002039
CREATED:20200921T184938Z
LAST-MODIFIED:20200921T185210Z
UID:2467-1605744000-1605830399@ebnds.com
SUMMARY:PEDAGOGICAL DAY / PARENTS-TEACHERS ZOOM MEETINGS
DESCRIPTION:No school for students. \nParents-teachers Zoom meetings. More details to come.
URL:https://ebnds.com/en/event/pedagogical-day-parents-teachers-zoom-meetings/
END:VEVENT
BEGIN:VEVENT
DTSTART;VALUE=DATE:20201120
DTEND;VALUE=DATE:20201121
DTSTAMP:20260426T002039
CREATED:20200922T153642Z
LAST-MODIFIED:20200922T153642Z
UID:2486-1605830400-1605916799@ebnds.com
SUMMARY:PEDAGOGICAL DAY
DESCRIPTION:
URL:https://ebnds.com/en/event/pedagogical-day-10/
END:VEVENT
BEGIN:VEVENT
DTSTART;VALUE=DATE:20201130
DTEND;VALUE=DATE:20201201
DTSTAMP:20260426T002039
CREATED:20201202T203732Z
LAST-MODIFIED:20201202T203817Z
UID:2725-1606694400-1606780799@ebnds.com
SUMMARY:DELIVERY OF CHRISTMAS PRESENTS
DESCRIPTION:Delivery of Christmas gifts from parents of EBNDS students to children at Enfants Soleil school.
URL:https://ebnds.com/en/event/delivery-of-christmas-presents/
END:VEVENT
BEGIN:VEVENT
DTSTART;VALUE=DATE:20201214
DTEND;VALUE=DATE:20201215
DTSTAMP:20260426T002039
CREATED:20201203T190715Z
LAST-MODIFIED:20201203T190715Z
UID:2747-1607904000-1607990399@ebnds.com
SUMMARY:PYJAMA DAY
DESCRIPTION:
URL:https://ebnds.com/en/event/pyjama-day-2/
END:VEVENT
BEGIN:VEVENT
DTSTART;VALUE=DATE:20201215
DTEND;VALUE=DATE:20201216
DTSTAMP:20260426T002039
CREATED:20201203T190608Z
LAST-MODIFIED:20201203T190608Z
UID:2745-1607990400-1608076799@ebnds.com
SUMMARY:HOODIE / SWEATSHIRT DAY
DESCRIPTION:
URL:https://ebnds.com/en/event/hoodie-sweatshirt-day/
END:VEVENT
BEGIN:VEVENT
DTSTART;VALUE=DATE:20201216
DTEND;VALUE=DATE:20201217
DTSTAMP:20260426T002039
CREATED:20201203T192035Z
LAST-MODIFIED:20201203T201614Z
UID:2749-1608076800-1608163199@ebnds.com
SUMMARY:RED DAY
DESCRIPTION:For the Holiday season\, wear red!
URL:https://ebnds.com/en/event/red-day/
END:VEVENT
BEGIN:VEVENT
DTSTART;VALUE=DATE:20201217
DTEND;VALUE=DATE:20201218
DTSTAMP:20260426T002040
CREATED:20200922T163922Z
LAST-MODIFIED:20201202T192202Z
UID:2494-1608163200-1608249599@ebnds.com
SUMMARY:ONLINE REMOTE LEARNING
DESCRIPTION:
URL:https://ebnds.com/en/event/christmas-concert-2/
END:VEVENT
BEGIN:VEVENT
DTSTART;VALUE=DATE:20201218
DTEND;VALUE=DATE:20201219
DTSTAMP:20260426T002040
CREATED:20201202T204039Z
LAST-MODIFIED:20201202T204039Z
UID:2729-1608249600-1608335999@ebnds.com
SUMMARY:ONLINE REMOTE LEARNING
DESCRIPTION:
URL:https://ebnds.com/en/event/online-remote-learning/
END:VEVENT
BEGIN:VEVENT
DTSTART;VALUE=DATE:20201221
DTEND;VALUE=DATE:20201222
DTSTAMP:20260426T002040
CREATED:20200922T163426Z
LAST-MODIFIED:20201202T201941Z
UID:2491-1608508800-1608595199@ebnds.com
SUMMARY:ONLINE REMOTE LEARNING
DESCRIPTION:
URL:https://ebnds.com/en/event/christmas-concert/
END:VEVENT
BEGIN:VEVENT
DTSTART;VALUE=DATE:20201222
DTEND;VALUE=DATE:20201223
DTSTAMP:20260426T002040
CREATED:20201202T203916Z
LAST-MODIFIED:20201202T203916Z
UID:2727-1608595200-1608681599@ebnds.com
SUMMARY:PEDAGOGICAL DAY
DESCRIPTION:
URL:https://ebnds.com/en/event/pedagogical-day-16/
END:VEVENT
BEGIN:VEVENT
DTSTART;VALUE=DATE:20201223
DTEND;VALUE=DATE:20210106
DTSTAMP:20260426T002040
CREATED:20200922T180148Z
LAST-MODIFIED:20200922T181712Z
UID:2500-1608681600-1609891199@ebnds.com
SUMMARY:WINTER VACATION
DESCRIPTION:
URL:https://ebnds.com/en/event/classe-neige-4a-4b/
END:VEVENT
BEGIN:VEVENT
DTSTART;VALUE=DATE:20210114
DTEND;VALUE=DATE:20210115
DTSTAMP:20260426T002040
CREATED:20200921T180111Z
LAST-MODIFIED:20201013T184654Z
UID:2458-1610582400-1610668799@ebnds.com
SUMMARY:END OF TERM
DESCRIPTION:Regular school day
URL:https://ebnds.com/en/event/end-of-term-5/
END:VEVENT
BEGIN:VEVENT
DTSTART;VALUE=DATE:20210115
DTEND;VALUE=DATE:20210116
DTSTAMP:20260426T002040
CREATED:20200922T181012Z
LAST-MODIFIED:20201013T185841Z
UID:2508-1610668800-1610755199@ebnds.com
SUMMARY:PEDAGOGICAL DAY
DESCRIPTION:
URL:https://ebnds.com/en/event/pedagogical-day-11/
END:VEVENT
BEGIN:VEVENT
DTSTART;VALUE=DATE:20210128
DTEND;VALUE=DATE:20210129
DTSTAMP:20260426T002040
CREATED:20201013T190242Z
LAST-MODIFIED:20201013T190242Z
UID:2634-1611792000-1611878399@ebnds.com
SUMMARY:PEDAGOGICAL DAY
DESCRIPTION:
URL:https://ebnds.com/en/event/pedagogical-day-13/
END:VEVENT
BEGIN:VEVENT
DTSTART;VALUE=DATE:20210129
DTEND;VALUE=DATE:20210130
DTSTAMP:20260426T002040
CREATED:20201013T190320Z
LAST-MODIFIED:20201013T190320Z
UID:2636-1611878400-1611964799@ebnds.com
SUMMARY:PEDAGOGICAL DAY
DESCRIPTION:
URL:https://ebnds.com/en/event/pedagogical-day-14/
END:VEVENT
BEGIN:VEVENT
DTSTART;VALUE=DATE:20210210
DTEND;VALUE=DATE:20210213
DTSTAMP:20260426T002040
CREATED:20200922T185506Z
LAST-MODIFIED:20200922T185506Z
UID:2518-1612915200-1613174399@ebnds.com
SUMMARY:CLASSE NEIGE 4A & 4B
DESCRIPTION:To be confirmed
URL:https://ebnds.com/en/event/classe-neige-4a-4b-2/
END:VEVENT
BEGIN:VEVENT
DTSTART;VALUE=DATE:20210301
DTEND;VALUE=DATE:20210306
DTSTAMP:20260426T002040
CREATED:20200922T192904Z
LAST-MODIFIED:20200922T192904Z
UID:2526-1614556800-1614988799@ebnds.com
SUMMARY:FIRST SPRING BREAK WEEK
DESCRIPTION:
URL:https://ebnds.com/en/event/first-spring-break-week/
END:VEVENT
BEGIN:VEVENT
DTSTART;VALUE=DATE:20210316
DTEND;VALUE=DATE:20210319
DTSTAMP:20260426T002040
CREATED:20200922T191832Z
LAST-MODIFIED:20200922T191832Z
UID:2520-1615852800-1616111999@ebnds.com
SUMMARY:MEETING REQUESTED BY TEACHERS VIA ZOOM (EVENING)
DESCRIPTION:
URL:https://ebnds.com/en/event/meeting-requested-by-teachers-via-zoom-evening/
END:VEVENT
END:VCALENDAR