BEGIN:VCALENDAR
VERSION:2.0
PRODID:-//École bilingue Notre-Dame de Sion - ECPv6.15.20//NONSGML v1.0//EN
CALSCALE:GREGORIAN
METHOD:PUBLISH
X-ORIGINAL-URL:https://ebnds.com/en/
X-WR-CALDESC:Events for École bilingue Notre-Dame de Sion
REFRESH-INTERVAL;VALUE=DURATION:PT1H
X-Robots-Tag:noindex
X-PUBLISHED-TTL:PT1H
BEGIN:VTIMEZONE
TZID:America/Toronto
BEGIN:DAYLIGHT
TZOFFSETFROM:-0500
TZOFFSETTO:-0400
TZNAME:EDT
DTSTART:20180311T070000
END:DAYLIGHT
BEGIN:STANDARD
TZOFFSETFROM:-0400
TZOFFSETTO:-0500
TZNAME:EST
DTSTART:20181104T060000
END:STANDARD
BEGIN:DAYLIGHT
TZOFFSETFROM:-0500
TZOFFSETTO:-0400
TZNAME:EDT
DTSTART:20190310T070000
END:DAYLIGHT
BEGIN:STANDARD
TZOFFSETFROM:-0400
TZOFFSETTO:-0500
TZNAME:EST
DTSTART:20191103T060000
END:STANDARD
BEGIN:DAYLIGHT
TZOFFSETFROM:-0500
TZOFFSETTO:-0400
TZNAME:EDT
DTSTART:20200308T070000
END:DAYLIGHT
BEGIN:STANDARD
TZOFFSETFROM:-0400
TZOFFSETTO:-0500
TZNAME:EST
DTSTART:20201101T060000
END:STANDARD
BEGIN:DAYLIGHT
TZOFFSETFROM:-0500
TZOFFSETTO:-0400
TZNAME:EDT
DTSTART:20210314T070000
END:DAYLIGHT
BEGIN:STANDARD
TZOFFSETFROM:-0400
TZOFFSETTO:-0500
TZNAME:EST
DTSTART:20211107T060000
END:STANDARD
END:VTIMEZONE
BEGIN:VEVENT
DTSTART;VALUE=DATE:20190828
DTEND;VALUE=DATE:20190829
DTSTAMP:20260426T001830
CREATED:20190815T192004Z
LAST-MODIFIED:20190815T193338Z
UID:2138-1566950400-1567036799@ebnds.com
SUMMARY:BACK TO SCHOOL
DESCRIPTION:SCHOOL YEAR 2019-2020\nKinder Gr. A & B \nWednesday\, August 28th: 8:30 – 11:30 \nThursday\, August 29th: 8:30 – 11:30 \nFriday\, August 30th: 8:30 – 11:30 \n  \nGrade 1 to 6 \nWednesday\, August 28th to Friday\, August 30th: 8:30 am – 3:30 pm \n 
URL:https://ebnds.com/en/event/back-to-school/
END:VEVENT
BEGIN:VEVENT
DTSTART;VALUE=DATE:20190903
DTEND;VALUE=DATE:20190904
DTSTAMP:20260426T001830
CREATED:20190830T171757Z
LAST-MODIFIED:20190830T172805Z
UID:2153-1567468800-1567555199@ebnds.com
SUMMARY:PARENTS INFO SESSION
DESCRIPTION:Session starts at 7:00 pm
URL:https://ebnds.com/en/event/parents-info-session/
END:VEVENT
BEGIN:VEVENT
DTSTART;VALUE=DATE:20190906
DTEND;VALUE=DATE:20190907
DTSTAMP:20260426T001830
CREATED:20190830T172606Z
LAST-MODIFIED:20190830T172606Z
UID:2157-1567728000-1567814399@ebnds.com
SUMMARY:FUN DAY
DESCRIPTION:No uniform
URL:https://ebnds.com/en/event/fun-day/
END:VEVENT
BEGIN:VEVENT
DTSTART;VALUE=DATE:20190930
DTEND;VALUE=DATE:20191001
DTSTAMP:20260426T001830
CREATED:20190830T172902Z
LAST-MODIFIED:20190830T172902Z
UID:2163-1569801600-1569887999@ebnds.com
SUMMARY:PEDAGOGICAL DAY
DESCRIPTION:
URL:https://ebnds.com/en/event/pedagogical-day-4/
END:VEVENT
BEGIN:VEVENT
DTSTART;VALUE=DATE:20190930
DTEND;VALUE=DATE:20191001
DTSTAMP:20260426T001830
CREATED:20190830T183209Z
LAST-MODIFIED:20190830T194135Z
UID:2169-1569801600-1569887999@ebnds.com
SUMMARY:PED. DAY OUTING: CLIP'N CLIMB
DESCRIPTION:9:15 am   Bus leaving to Clip’N Climb \n3:30 pm  Bus returns to EBNDS
URL:https://ebnds.com/en/event/ped-day-outing-clipn-climb/
END:VEVENT
BEGIN:VEVENT
DTSTART;VALUE=DATE:20191010
DTEND;VALUE=DATE:20191011
DTSTAMP:20260426T001830
CREATED:20191007T185659Z
LAST-MODIFIED:20191007T192106Z
UID:2198-1570665600-1570751999@ebnds.com
SUMMARY:OPEN HOUSE
DESCRIPTION:  \n \nFirst bilingual session starts at 9:30 am \nSecond bilingual session starts at 1:30 pm
URL:https://ebnds.com/en/event/open-house/
END:VEVENT
BEGIN:VEVENT
DTSTART;VALUE=DATE:20191108
DTEND;VALUE=DATE:20191109
DTSTAMP:20260426T001830
CREATED:20191007T192548Z
LAST-MODIFIED:20191007T192548Z
UID:2210-1573171200-1573257599@ebnds.com
SUMMARY:END OF TERM
DESCRIPTION:Regular school day
URL:https://ebnds.com/en/event/end-of-term-3/
END:VEVENT
BEGIN:VEVENT
DTSTART;VALUE=DATE:20191111
DTEND;VALUE=DATE:20191112
DTSTAMP:20260426T001830
CREATED:20191007T195124Z
LAST-MODIFIED:20191016T181746Z
UID:2219-1573430400-1573516799@ebnds.com
SUMMARY:PED. DAY - FIELD TRIP OUTING DISTRICT LASERTAG
DESCRIPTION:Register on the PORTAIL under Community / Activities / Ped. Days Registration
URL:https://ebnds.com/en/event/ped-day-field-trip-outing/
END:VEVENT
BEGIN:VEVENT
DTSTART;VALUE=DATE:20191121
DTEND;VALUE=DATE:20191122
DTSTAMP:20260426T001830
CREATED:20191015T173337Z
LAST-MODIFIED:20191015T173337Z
UID:2233-1574294400-1574380799@ebnds.com
SUMMARY:PED. DAY - FIELD TRIP OUTING MINI MAZE
DESCRIPTION:Register on the PORTAIL under Community / Activities / Ped. Days Registration
URL:https://ebnds.com/en/event/ped-day-field-trip-outing-mini-maze/
END:VEVENT
BEGIN:VEVENT
DTSTART;VALUE=DATE:20200117
DTEND;VALUE=DATE:20200118
DTSTAMP:20260426T001830
CREATED:20200114T160749Z
LAST-MODIFIED:20200114T160749Z
UID:2296-1579219200-1579305599@ebnds.com
SUMMARY:POINTE-À-CALLIÈRE FIELD TRIP
DESCRIPTION:GROUPES 3A &3B
URL:https://ebnds.com/en/event/pointe-a-calliere-field-trip/
END:VEVENT
BEGIN:VEVENT
DTSTART;VALUE=DATE:20200117
DTEND;VALUE=DATE:20200118
DTSTAMP:20260426T001830
CREATED:20200114T162349Z
LAST-MODIFIED:20200114T162349Z
UID:2298-1579219200-1579305599@ebnds.com
SUMMARY:SELWYN'S HOCKEY TOURNAMENT
DESCRIPTION:The Selwyn’s tournament will take place at the Westmount Arena. \nStarts at 8h25 am \n 
URL:https://ebnds.com/en/event/selwyns-hockey-tournament/
END:VEVENT
BEGIN:VEVENT
DTSTART;VALUE=DATE:20200129
DTEND;VALUE=DATE:20200130
DTSTAMP:20260426T001830
CREATED:20200114T150615Z
LAST-MODIFIED:20200114T150615Z
UID:2288-1580256000-1580342399@ebnds.com
SUMMARY:OSM
DESCRIPTION:GROUPES 5A & 5B
URL:https://ebnds.com/en/event/osm/
END:VEVENT
BEGIN:VEVENT
DTSTART;VALUE=DATE:20200212
DTEND;VALUE=DATE:20200215
DTSTAMP:20260426T001830
CREATED:20200114T150412Z
LAST-MODIFIED:20200114T150412Z
UID:2283-1581465600-1581724799@ebnds.com
SUMMARY:CLASSE NEIGE
DESCRIPTION:GROUPES 4A & 4B \nDeparture February 12 / Return February 14
URL:https://ebnds.com/en/event/classe-neige/
END:VEVENT
BEGIN:VEVENT
DTSTART;VALUE=DATE:20200220
DTEND;VALUE=DATE:20200221
DTSTAMP:20260426T001830
CREATED:20200120T164316Z
LAST-MODIFIED:20200120T164316Z
UID:2319-1582156800-1582243199@ebnds.com
SUMMARY:END OF TERM
DESCRIPTION:
URL:https://ebnds.com/en/event/end-of-term-4/
END:VEVENT
BEGIN:VEVENT
DTSTART;VALUE=DATE:20200224
DTEND;VALUE=DATE:20200225
DTSTAMP:20260426T001830
CREATED:20191015T174620Z
LAST-MODIFIED:20191015T174620Z
UID:2235-1582502400-1582588799@ebnds.com
SUMMARY:PED. DAY - FIELD TRIP OUTING CENTRE DES SCIENCES MONTREAL
DESCRIPTION:S’incrire sur le PORTAIL sous Communauté / Activités / Journées Pédagogiques Inscription
URL:https://ebnds.com/en/event/ped-day-field-trip-outing-centre-des-sciences-montreal/
END:VEVENT
BEGIN:VEVENT
DTSTART;VALUE=DATE:20200224
DTEND;VALUE=DATE:20200225
DTSTAMP:20260426T001830
CREATED:20200121T190326Z
LAST-MODIFIED:20200121T190326Z
UID:2340-1582502400-1582588799@ebnds.com
SUMMARY:PEDAGOGICAL DAY
DESCRIPTION:
URL:https://ebnds.com/en/event/pedagogical-day-7/
END:VEVENT
BEGIN:VEVENT
DTSTART;VALUE=DATE:20200302
DTEND;VALUE=DATE:20200316
DTSTAMP:20260426T001830
CREATED:20200120T161116Z
LAST-MODIFIED:20200120T161208Z
UID:2302-1583107200-1584316799@ebnds.com
SUMMARY:SPRING BREAK
DESCRIPTION:
URL:https://ebnds.com/en/event/spring-break-2/
END:VEVENT
BEGIN:VEVENT
DTSTART;VALUE=DATE:20200410
DTEND;VALUE=DATE:20200411
DTSTAMP:20260426T001830
CREATED:20200120T163252Z
LAST-MODIFIED:20200120T163252Z
UID:2309-1586476800-1586563199@ebnds.com
SUMMARY:GOOD FRIDAY
DESCRIPTION:
URL:https://ebnds.com/en/event/good-friday-2/
END:VEVENT
BEGIN:VEVENT
DTSTART;VALUE=DATE:20200413
DTEND;VALUE=DATE:20200414
DTSTAMP:20260426T001830
CREATED:20200120T163348Z
LAST-MODIFIED:20200120T163348Z
UID:2311-1586736000-1586822399@ebnds.com
SUMMARY:EASTER MONDAY
DESCRIPTION:
URL:https://ebnds.com/en/event/easter-monday-2/
END:VEVENT
BEGIN:VEVENT
DTSTART;VALUE=DATE:20200414
DTEND;VALUE=DATE:20200415
DTSTAMP:20260426T001830
CREATED:20191015T183926Z
LAST-MODIFIED:20200322T201538Z
UID:2248-1586822400-1586908799@ebnds.com
SUMMARY:CANCELLED:   PED. DAY - FIELD TRIP OUTING UBISOFT
DESCRIPTION:Register on the PORTAIL under Community / Activities / Ped. Days Registration
URL:https://ebnds.com/en/event/ped-day-field-trip-outing-ubisoft/
END:VEVENT
BEGIN:VEVENT
DTSTART;VALUE=DATE:20200414
DTEND;VALUE=DATE:20200415
DTSTAMP:20260426T001830
CREATED:20200120T164126Z
LAST-MODIFIED:20200511T184258Z
UID:2317-1586822400-1586908799@ebnds.com
SUMMARY:CANCELED - PEDAGOGICAL DAY
DESCRIPTION:
URL:https://ebnds.com/en/event/ped-day-4/
END:VEVENT
BEGIN:VEVENT
DTSTART;VALUE=DATE:20200512
DTEND;VALUE=DATE:20200513
DTSTAMP:20260426T001830
CREATED:20200120T164916Z
LAST-MODIFIED:20200511T184232Z
UID:2325-1589241600-1589327999@ebnds.com
SUMMARY:CANCELED - PARENTS' ASSEMBLY
DESCRIPTION:
URL:https://ebnds.com/en/event/parents-meeting/
END:VEVENT
BEGIN:VEVENT
DTSTART;VALUE=DATE:20200514
DTEND;VALUE=DATE:20200515
DTSTAMP:20260426T001830
CREATED:20200120T164955Z
LAST-MODIFIED:20200511T184025Z
UID:2327-1589414400-1589500799@ebnds.com
SUMMARY:CANCELED - PEDAGOGICAL DAY
DESCRIPTION:
URL:https://ebnds.com/en/event/ped-day-5/
END:VEVENT
BEGIN:VEVENT
DTSTART;VALUE=DATE:20200515
DTEND;VALUE=DATE:20200516
DTSTAMP:20260426T001830
CREATED:20191015T190639Z
LAST-MODIFIED:20200511T184009Z
UID:2251-1589500800-1589587199@ebnds.com
SUMMARY:CANCELED - PED. DAY - FIELD TRIP OUTING ÉCOLE DE CIRQUE DE VERDUN
DESCRIPTION:Register on the PORTAIL under Community / Activities / Ped. Days Registration
URL:https://ebnds.com/en/event/ped-day-field-trip-outing-ecole-de-cirque-de-verdun/
END:VEVENT
BEGIN:VEVENT
DTSTART;VALUE=DATE:20200515
DTEND;VALUE=DATE:20200516
DTSTAMP:20260426T001830
CREATED:20200120T170739Z
LAST-MODIFIED:20200511T165641Z
UID:2336-1589500800-1589587199@ebnds.com
SUMMARY:CANCELED - PEDAGOGICAL DAY
DESCRIPTION:
URL:https://ebnds.com/en/event/pedagogical-day-6/
END:VEVENT
BEGIN:VEVENT
DTSTART;VALUE=DATE:20200518
DTEND;VALUE=DATE:20200519
DTSTAMP:20260426T001830
CREATED:20200121T200832Z
LAST-MODIFIED:20200121T200832Z
UID:2344-1589760000-1589846399@ebnds.com
SUMMARY:HOLIDAY / NATIONAL PATRIOTS' DAY / VICTORIA DAY
DESCRIPTION:
URL:https://ebnds.com/en/event/holiday-national-patriots-day-victoria-day/
END:VEVENT
BEGIN:VEVENT
DTSTART;VALUE=DATE:20200520
DTEND;VALUE=DATE:20200523
DTSTAMP:20260426T001830
CREATED:20200114T160344Z
LAST-MODIFIED:20200511T165627Z
UID:2290-1589932800-1590191999@ebnds.com
SUMMARY:CANCELED - QUEBEC FIELD TRIP
DESCRIPTION:GROUPES 5A & 5B
URL:https://ebnds.com/en/event/quebec-field-trip/
END:VEVENT
BEGIN:VEVENT
DTSTART;VALUE=DATE:20200610
DTEND;VALUE=DATE:20200613
DTSTAMP:20260426T001830
CREATED:20200121T202006Z
LAST-MODIFIED:20200511T165617Z
UID:2347-1591747200-1592006399@ebnds.com
SUMMARY:CANCELED - CLASSE VERTE FIELD TRIP
DESCRIPTION:GROUPS 3A & 3B
URL:https://ebnds.com/en/event/classe-verte-field-trip/
END:VEVENT
BEGIN:VEVENT
DTSTART;VALUE=DATE:20200615
DTEND;VALUE=DATE:20200618
DTSTAMP:20260426T001830
CREATED:20200121T203446Z
LAST-MODIFIED:20200511T165605Z
UID:2354-1592179200-1592438399@ebnds.com
SUMMARY:CANCELED -  OTTAWA FIELD TRIP
DESCRIPTION:GROUPES 6A &6B
URL:https://ebnds.com/en/event/ottawa-field-trip/
END:VEVENT
BEGIN:VEVENT
DTSTART;VALUE=DATE:20200626
DTEND;VALUE=DATE:20200627
DTSTAMP:20260426T001830
CREATED:20200121T204243Z
LAST-MODIFIED:20200511T184407Z
UID:2358-1593129600-1593215999@ebnds.com
SUMMARY:END OF TERM / LAST DAY OF SCHOOL
DESCRIPTION:ENJOY YOUR SUMMER VACATION!!
URL:https://ebnds.com/en/event/end-of-term-last-day-of-school/
END:VEVENT
END:VCALENDAR